Workbook

Sheet Disclaimer
A1: Disclaimer - Important notices
A4: (i) The Product Information displayed on this Site has been uploaded by the Issuers of the relevant Products. None of the information displayed on this Site shall form the basis of any contract. Any User of this Site will be required to acknowledge that it has not relied on, or been induced to enter into any contract by, any representation or warranty.
A5: (ii) The Covered Bond Label Foundation has not independently verified the Product Information displayed on this Site. Accordingly, no representation, warranty or undertaking, express or implied, is made, and no responsibility is accepted, by the Covered Bond Label Foundation as to or in relation to the accuracy or completeness or otherwise of such Product Information."
A6: (iii) The information provided on or accessible through the Site is not intended for distribution to, or use by, any person or entity in any jurisdiction where such distribution or use would be contrary to local law, or which would subject us or any Issuer, to any authorisation, registration or other requirement within such jurisdiction. You agree not to use or export the information or materials available on or through this Site in violation of laws in your jurisdiction.
A8: TERMS OF USE
A9: This website www.coveredbondlabel.com (the "Site") is owned and operated by the Covered Bond Label Foundation (the Covered Bond Label Foundation together with its affiliates, "we" or "us") a Private Foundation (fondation privée / private stichting) registered in Belgium; whose registered office is at Rue de la Science 14 - 1040 Brussels - Belgium and registered under number 500.950.659 (RPR/RPM Brussels).
A10: The Site is intended for use as a directory of information relating to certain covered bond products ("Products") (the "Product Information") by an issuer of ("Issuer"), or potential investor in ("Investor"), such Products (an Issuer, Investor, or any other person accessing this Site, each a "User" or "you"). The Product Information is provided by each relevant Issuer, and remains at all times the sole responsibility of the relevant Issuer. We have not independently verified any Product Information, nor reviewed whether any Product for which information is available on the Site actually is a covered bond product. This Site or any label made available through it does not constitute, nor contain, any form of credit rating, any offer to sell (or the solicitation of an offer to purchase) any Product, nor does it constitute a recommendation, or investment advice (or any other type of advice) upon which reliance should be placed.
A11: These terms and conditions together with the documents referred to in them set out the terms of use ("T&Cs") on which (a) an Issuer; (b) Investor; or (c) any other User, may make use of the Site. Section A applies primarily to Investors, and Section B applies primarily to Issuers. The General T&Cs in Section C apply to all Users.
A12: Our Acceptable Use Policy and Privacy Policy are incorporated into these T&Cs.
A13: Please read the T&Cs carefully before you start to use the Site. By clicking 'Accept' you indicate that you accept these T&Cs and that you agree to abide by them.
A14: If any provision of these T&Cs shall be deemed unlawful, void or for any reason unenforceable, then that provision shall be deemed severable from these terms and shall not affect the validity and enforceability of any remaining provisions.
A16: SECTION A. INVESTOR T&Cs
... A169: If you have any questions about this policy, the collection and use of your personal information or other privacy-specific concerns please contact us by clicking on Contact Us .

Sheet Introduction
F5: Harmonised Transparency Template
D6: 2026 Version
F7: Finland
F8: S-Pankki
F9: Reporting date: 01/10/26
F10: Cut-off Date: 30/09/26
F22: Index
D24: Worksheet A: HTT General | E24: Tab 1: Harmonised Transparency Template
D26: Worksheet B1: HTT Mortgage Assets
D28: Worksheet B2: HTT Public Sector Assets | E28: Tab 1: Harmonised Transparency Template
D30: Worksheet B3: HTT Shipping Assets | E30: Tab 1: Harmonised Transparency Template
D32: Worksheet C: HTT Harmonised Glossary | E32: Tab 1: Harmonised Transparency Template
D34: Covered Bond Label Disclaimer | E34: Tab 1: Harmonised Transparency Template
D36: Worksheet D & Onwards (If Any): National Transparency Template
D38: Worksheet E: Optional ECB-ECAIs data
D40: Worksheet F1: Sustainable M data | E40: Tab 1: Harmonised Transparency Template

Sheet A. HTT General
A1: A. Harmonised Transparency Template - General Information | F1: HTT 2026
B3: Reporting in Domestic Currency | C3: EUR
B5: CONTENT OF TAB A
B6: 1. Basic Facts
B7: 2. Regulatory Summary
B8: 3. General Cover Pool / Covered Bond Information | F8: `
B9: 4. Compliance Art 14 CBD Check Table
B10: 5. References to Capital Requirements Regulation (CRR) 129(1)
B11: 6. Other relevant information
A13: Field Number | B13: 1. Basic Facts
A14: G.1.1.1 | B14: Country | C14: Finland
A15: G.1.1.2 | B15: Issuer Name | C15: S-Pankki
A16: G.1.1.3 | B16: Labelled Cover Pool Name | C16: S-Bank Cover Pool
A17: G.1.1.4 | B17: Link to Issuer's Website | C17: https://www.s-pankki.fi/
A18: G.1.1.5 | B18: Cut-off date | C18: 30/09/26
A19: G.1.1.6 | B19: Cover Pool's FIGI Identifier (non-mandatory) | C19: BBG01JRN4681
A20: OG.1.1.2 | B20: Optional information e.g. Contact names
A21: OG.1.1.3 | B21: Optional information e.g. Parent name
A22: OG.1.1.4
A23: OG.1.1.5
A24: OG.1.1.6
A25: OG.1.1.7
B26: 2. Regulatory Summary
A27: G.2.1.1 | B27: Basel Compliance, subject to national jurisdiction (Y/N) | C27: Y
A28: G.2.1.2 | B28: CBD Compliance | C28: Y | W28: Yes
A29: G.2.1.3 | B29: CRR Compliance (Y/N) | C29: Y | W29: No
A30: OG.2.1.1 | B30: LCR status | C30: https://www.coveredbondlabel.com/issuer/225-s-bank-plc | W30: Non-EEA, Art 14 CBD compliant
A31: OG.2.1.2
A32: OG.2.1.3
A33: OG.2.1.4
A34: OG.2.1.5
A35: OG.2.1.6
B36: 3. General Cover Pool / Covered Bond Information
B37: 1.General Information | C37: Nominal (mn)
A38: G.3.1.1 | B38: Total Cover Assets | C38: 3125.1131
A39: G.3.1.2 | B39: Outstanding Covered Bonds | C39: 1000
A40: OG.3.1.1 | B40: Cover Pool Size [NPV] (mn) | C40: 3132.7109
A41: OG.3.1.2 | B41: Outstanding Covered Bonds [NPV] (mn) | C41: 997.24892
A42: OG.3.1.3
A43: OG.3.1.4
...

Sheet B1. HTT Mortgage Assets
A1: B1. Harmonised Transparency Template - Mortgage Assets | F1: HTT 2026
B3: Reporting in Domestic Currency | C3: EUR
B5: CONTENT OF TAB B1
B6: 7. Mortgage Assets
B7: 7.A Residential Cover Pool
B8: 7.B Commercial Cover Pool
A10: Field Number | B10: 7. Mortgage Assets
B11: 1. Property Type Information | C11: Nominal (mn) | F11: % Total Mortgages
A12: M.7.1.1 | B12: Residential | C12: 3125.1131 | F12: =IF($C$15=0,"",IF(C12="[for completion]","",C12/$C$15)) -> 1
A13: M.7.1.2 | B13: Commercial | C13: 0 | F13: =IF($C$15=0,"",IF(C13="[for completion]","",C13/$C$15)) -> 0
A14: M.7.1.3 | B14: Other | C14: 0 | F14: =IF($C$15=0,"",IF(C14="[for completion]","",C14/$C$15)) -> 0
A15: M.7.1.4 | B15: Total | C15: =SUM(C12:C14) -> 3125.1131 | F15: =SUM(F12:F14) -> 1
A16: OM.7.1.1 | B16: o/w Housing Cooperatives / Multi-family assets | C16: 0 | F16: =IF($C$15=0,"",IF(C16="[for completion]","",C16/$C$15)) -> 0
A17: OM.7.1.2 | B17: o/w Forest & Agriculture | F17: =IF($C$15=0,"",IF(C17="[for completion]","",C17/$C$15)) -> 0
A18: OM.7.1.3 | B18: o/w [If relevant, please specify] | F18: =IF($C$15=0,"",IF(C18="[for completion]","",C18/$C$15)) -> 0
A19: OM.7.1.4 | B19: o/w [If relevant, please specify] | F19: =IF($C$15=0,"",IF(C19="[for completion]","",C19/$C$15)) -> 0
A20: OM.7.1.5 | B20: o/w [If relevant, please specify] | F20: =IF($C$15=0,"",IF(C20="[for completion]","",C20/$C$15)) -> 0
A21: OM.7.1.6 | B21: o/w [If relevant, please specify] | F21: =IF($C$15=0,"",IF(C21="[for completion]","",C21/$C$15)) -> 0
A22: OM.7.1.7 | B22: o/w [If relevant, please specify] | F22: =IF($C$15=0,"",IF(C22="[for completion]","",C22/$C$15)) -> 0
A23: OM.7.1.8 | B23: o/w [If relevant, please specify] | F23: =IF($C$15=0,"",IF(C23="[for completion]","",C23/$C$15)) -> 0
A24: OM.7.1.9 | B24: o/w [If relevant, please specify] | F24: =IF($C$15=0,"",IF(C24="[for completion]","",C24/$C$15)) -> 0
A25: OM.7.1.10 | B25: o/w [If relevant, please specify] | F25: =IF($C$15=0,"",IF(C25="[for completion]","",C25/$C$15)) -> 0
A26: OM.7.1.11 | B26: o/w [If relevant, please specify] | F26: =IF($C$15=0,"",IF(C26="[for completion]","",C26/$C$15)) -> 0
B27: 2. General Information | C27: Residential Loans | D27: Commercial Loans | F27: Total Mortgages
A28: M.7.2.1 | B28: Number of mortgage loans | C28: 38469 | D28: 0 | F28: 38469
A29: OM.7.2.1 | B29: Optional information eg, Number of borrowers
A30: OM.7.2.2 | B30: Optional information eg, Number of guarantors
A31: OM.7.2.3
A32: OM.7.2.4
A33: OM.7.2.5
A34: OM.7.2.6
B35: 3. Concentration Risks | C35: % Residential Loans | D35: % Commercial Loans | F35: % Total Mortgages
A36: M.7.3.1 | B36: 10 largest exposures | C36: 0.00456 | D36: 0 | F36: 0.00456
A37: OM.7.3.1
A38: OM.7.3.2
A39: OM.7.3.3
A40: OM.7.3.4
A41: OM.7.3.5
A42: OM.7.3.6
B43: 4. Breakdown by Geography | C43: % Residential Loans | D43: % Commercial Loans | F43: % Total Mortgages
...

Sheet C. HTT Harmonised Glossary
A1: C. Harmonised Transparency Template - Glossary | C1: HTT 2026
A3: The definitions below reflect the national specificities
A5: Field Number | B5: 1. Glossary - Standard Harmonised Items | C5: Definition
A6: HG.1.1 | B6: OC Calculation: Statutory | C6: Statutory Overcollateralisation is the overcollateralisation percentage required to be provided by each Issuer and included/disclosed in the national covered bond framework.
A7: HG.1.2 | B7: OC Calculation: Contractual | C7: Contractual Overcollateralisation is the overcollateralisation percentage each Issuer has contractually agreed to maintain pursuant to the covered bond programme documents.
A8: HG.1.3 | B8: OC Calculation: Voluntary | C8: Voluntary Overcollateralisation is the difference (if positive) between the actual overcollateralisation provided by an Issuer and the higher of the contractual and statutory overcollateralisation.
A9: HG.1.4 | B9: Interest Rate Types | C9: [For completion]
A10: HG.1.5 | B10: Life of cover assets: how is it calculated? Does it only consider the final date of redemption or does it take into account scheduled redemptions for amortising assets? Is is calculated by reference to the next interest reset dates or by reference to the redemption dates ? If assets have a floating or resettable rate, which assumption do you make regarding the future applicable rate? | C10: [For completion]
A11: HG.1.6 | B11: Maturity Buckets of Covered Bonds [i.e. how is the contractual and/or expected maturity defined? What maturity structure (hard bullet, soft bullet, conditional pass through)? Under what conditions/circumstances? Etc.] | C11: [For completion]
A12: HG.1.7 | B12: Maturity Extention Triggers | C12: [insert link to the national legislation where the maturity extention triggers are listed - insert link of relevant programme prospectus]
A13: HG.1.8 | B13: LTVs: Definition | C13: [For completion]
A14: HG.1.9 | B14: LTVs: Calculation of property/shipping value | C14: [For completion]
A15: HG.1.10 | B15: LTVs: Applied property/shipping valuation techniques, including whether use of index, Automated Valuation Model (AVM) or on-site audits | C15: [For completion]
A16: HG.1.11 | B16: LTVs: Frequency and time of last valuation | C16: [For completion]
... A20: HG.1.15 | B20: Valuation Method | C20: [For completion]
A21: OHG.1.1 | B21: NPV assumptions (when stated)
A22: OHG.1.2
A23: OHG.1.3
A24: OHG.1.4
A25: OHG.1.5
A26: OHG.1.6
A27: OHG.1.7
B28: 2. Glossary - ESG items (optional) | C28: Definition
A29: HG.2.1 | B29: Sustainability - strategy pursued in the cover pool | C29: [For completion]
A30: HG.2.2 | B30: Subsidised Housing (definitions of affordable, social housing) | C30: [For completion]
A31: HG.2.3 | B31: New Property and Existing Property | C31: [For completion]
A32: OHG.2.1 | B32: Indication of proxy usage for ESG-related data (indicator, methodology, timing, share of proxy usage for single indicators etc.) | C32: [For completion]
A33: OHG.2.2
A34: OHG.2.3
A35: OHG.2.4
A36: OHG.2.5
A37: OHG.2.6
A38: OHG.2.7
A39: OHG.2.8
A40: OHG.2.9
A41: OHG.2.10
A42: OHG.2.11
A43: OHG.2.12
B44: 3. Reason for No Data | C44: Value
A45: HG.3.1 | B45: Not applicable for the jurisdiction | C45: ND1
...

Sheet D. Insert Nat Trans Templ
B2: Issuer and rating
B4: Issuer: | C4: S-Pankki Oy
B5: Owner: | C5: S-Pankki Oy | H5: CRD compliant: Yes
B6: Cover Pool 1: | C6: S-Bank Cover Pool
B7: Supervisory authority: | C7: Financial Supervisory Authority (FIN-FSA)
B8: Reporting date: | C8: 46295
B10: Long Term Rating | C10: S&P
B11: Covered bond | C11: AAA
B12: Issuer
B13: Owner
B15: Outstanding covered bonds
B17: Outstanding covered bonds
B18: ISIN | C18: MEUR | D18: Currency | E18: Issue date | F18: Maturity | G18: Coupon | H18: Fix/FRN
B19: FI4000560990 | C19: 500,00 | D19: EUR | E19: 26.9.2023 0.00.00 | F19: 26.9.2028 0.00.00 | G19: 0,037500000 | H19: Fix
B20: FI4000570841 | C20: 500,00 | D20: EUR | E20: 16.4.2024 0.00.00 | F20: 16.4.2030 0.00.00 | G20: 0,030000000 | H20: Fix
C27: MEUR
B28: Non-benchmark bonds
B29: Total of outstanding bonds | C29: 1000
B30: of which repos
B32: Bond redemptions (MEUR) | C32: =YEAR(C8) -> 2026 | D32: =C32 + 1 -> 2027 | E32: =D32 + 1 -> 2028 | F32: =E32 + 1 -> 2029 | G32: =F32 + 1 -> 2030 | H32: =G32 + 1 -> 2031 | I32: =H32 + 1 -> 2032 | J32: =I32 + 1 -> 2033 | K32: =J32 + 1 -> 2034 | L32: =K32 + 1 -> 2035 | M32: =L32 + 1 & "-" -> 2036- | N32: Sum
B33: Total | E33: 500 | G33: 500 | N33: =+SUM(C33:M33) -> 1000
B35: Cover pool
B37: Cover pool assets (MEUR) | C37: Volume | D37: % | F37: Cover pool items
B38: Loans (up to LTV limit) | C38: 3234.52 | D38: 1 | F38: Number of loans | I38: 38469
B39: Substitute assets | C39: 0 | D39: 0 | F39: Number of clients | I39: 43875
B40: Other | C40: 0 | D40: 0 | F40: Number of properties | I40: 34749
B41: Eligible assets (* | C41: 3125.113 | D41: 0.96618 | F41: Average loan size (EUR) | I41: 81237
B42: Other eligible assets | C42: 0 | D42: 0
B43: Total assets | C43: =+MAX(SUM(C38:C40),SUM(C41:C42)) -> 3234.52
B45: * calculated according to section 16 in MCBA
B47: Volumes in stratification tables are presented as: | D47: LTV Distribution - whole loans. Other sections - Loans up to LTV limit / Total assets
B49: Regional distribution, MEUR | C49: Volume | D49: % | F49: Type of loan collateral (MEUR) | H49: Volume | I49: %
B50: Aland Islands | C50: 0.217 | D50: 7e-05 | F50: Single -family housing | H50: 687.185 | I50: 0.21989
B51: Central Finland | C51: 161.593 | D51: 0.05171 | F51: Flats | H51: 2437.928 | I51: 0.78011
B52: Central Ostrobothnia | C52: 20.387 | D52: 0.00652 | F52: Multi-family housing
B53: Etela-Savo | C53: 41.044 | D53: 0.01313 | F53: Commercial | H53: 0 | I53: %
B54: Ita-Uusimaa | F54: Forest & agricultural
B55: Kainuu | C55: 21.851 | D55: 0.00699 | F55: Public sector | H55: 0 | I55: %
B56: Kanta-Hame | C56: 74.819 | D56: 0.02394
B57: Kymenlaakso | C57: 57.878 | D57: 0.01852 | F57: Sum | H57: =SUM(H50:H55) -> 3125.113 | I57: =SUM(I50:I55) -> 1
...
